BEGIN:VCALENDAR
PRODID:-//hacksw/handcal//NONSGML v1.0//EN
VERSION:2.0
METHOD:PUBLISH
BEGIN:VEVENT
DTSTART:20240918T213000Z
DTEND:20240918T233000Z
LOCATION:Torbert Street Social
UID:2654720240918T213000ZFall Social 
DTSTAMP:20260422T183515Z
DESCRIPTION:\nJoin us for our fall social! This event is open to members only. We will have an open bar and serve appetizers.The board looks forward to seeing you there!\n
SUMMARY:Fall Social  - Estate Planning Council of Delaware, Inc. 
PRIORITY:3
BEGIN:VALARM
TRIGGER:PT18H
ACTION:DISPLAY
DESCRIPTION:Reminder
END:VALARM
END:VEVENT
END:VCALENDAR