BEGIN:VCALENDAR
PRODID:-//hacksw/handcal//NONSGML v1.0//EN
VERSION:2.0
METHOD:PUBLISH
BEGIN:VEVENT
DTSTART:20241113T220000Z
DTEND:20241114T003000Z
LOCATION:Delaware Contemporary Museum
UID:2686720241113T220000ZNovember Meeting - Lifetime QTIP Planning
DTSTAMP:20260422T183030Z
DESCRIPTION:\nMEETING NOTICE\n \nRSVP by: Noon – Friday, November 8, 2024\n \n \n \nSponsors:\n \nCharles Schwab Trust Company of Delaware\n \nTo sponsor an event, please contact Mike Neri, Sponsorship Chair.\n \n \n \nAGENDA:\n Cocktails:       5:00 pm Speaker:        6:30 pm (George Karibjanian) Topic:             Lifetime QTIP Planning \n \n \n \n \nNOTES:\n \n \n We are mixing up the style of this meeting to be more casual and with extended networking time. We will be at the Delaware Contemporary Museum. The venue has its own convenient parking lot. There will be no plated and served dinner, but food will be provided.
SUMMARY:November Meeting - Lifetime QTIP Planning - Estate Planning Council of Delaware, Inc. 
PRIORITY:3
BEGIN:VALARM
TRIGGER:PT18H
ACTION:DISPLAY
DESCRIPTION:Reminder
END:VALARM
END:VEVENT
END:VCALENDAR