BEGIN:VCALENDAR
PRODID:-//hacksw/handcal//NONSGML v1.0//EN
VERSION:2.0
METHOD:PUBLISH
BEGIN:VEVENT
DTSTART:20250108T220000Z
DTEND:20250109T003000Z
LOCATION:Wilmington Country Club
UID:2705420250108T220000ZJanuary Meeting - Seven Deadly Claims
DTSTAMP:20260422T183812Z
DESCRIPTION:\nMEETING NOTICE\n \nRSVP by: Noon – Friday, January 3, 2025\n \n \n \nSponsors:\n \nAKA Advisory, LLC\n \nGordon Fournaris & Mammarella\n \nTo sponsor an event, please contact Mike Neri, Sponsorship Chair.\n \n \n \nAGENDA:\n Cocktails:      5:00 pm Dinner:          5:45 pm Speaker:       6:30 pm (Steve Mignogna and Melissa Dibble) Topic:            Seven Deadly Claims \n \n \n \n \nMENU:\n \n \n Caesar salad Chicken piccata with potato and chef’s selection of vegetables Assorted cookies VEGETARIAN: Cheese Tortellini with Green Peas & Garlic Parmesan Cream Sauce
SUMMARY:January Meeting - Seven Deadly Claims - Estate Planning Council of Delaware, Inc. 
PRIORITY:3
BEGIN:VALARM
TRIGGER:PT18H
ACTION:DISPLAY
DESCRIPTION:Reminder
END:VALARM
END:VEVENT
END:VCALENDAR