BEGIN:VCALENDAR
PRODID:-//hacksw/handcal//NONSGML v1.0//EN
VERSION:2.0
METHOD:PUBLISH
BEGIN:VEVENT
DTSTART:20250205T220000Z
DTEND:20250206T003000Z
LOCATION:Wilmington Country Club
UID:2705520250205T220000ZFebruary Meeting - Use of AI in Estate Planning
DTSTAMP:20260422T183450Z
DESCRIPTION:\nMEETING NOTICE\n \nRSVP by: Noon – Friday, January 31, 2025\n \n \n \nSponsors:\n \nMcCollom D'Emilio Smith Uebler LLC\n \nPinion – Delaware Individual Trustee Services\n \n \n \nTo sponsor an event, please contact Mike Neri, Sponsorship Chair.\n \n \n \nAGENDA:\n Cocktails:       5:00 pm Dinner:           5:45 pm Speaker:        6:30 pm (Gerry Beyer) Topic:             Use of AI in Estate Planning \n \n \n \n \nMENU:\n \n \n Mixed greens with a poppy seed vinaigrette Pen seared salmon filet with chef’s selection of vegetables Assorted cookies VEGETARIAN: Vegetarian lasagna
SUMMARY:February Meeting - Use of AI in Estate Planning - Estate Planning Council of Delaware, Inc. 
PRIORITY:3
BEGIN:VALARM
TRIGGER:PT18H
ACTION:DISPLAY
DESCRIPTION:Reminder
END:VALARM
END:VEVENT
END:VCALENDAR