BEGIN:VCALENDAR
PRODID:-//hacksw/handcal//NONSGML v1.0//EN
VERSION:2.0
METHOD:PUBLISH
BEGIN:VEVENT
DTSTART:20250416T213000Z
DTEND:20250416T233000Z
LOCATION:Wilma's - 900 N Market St, Wilmington, DE 19801
UID:2752920250416T213000ZSpring Social
DTSTAMP:20260422T183926Z
DESCRIPTION:\nWe invite our members to an evening of networking and fun at our Spring Social at Wilma's in Wilmington! This is a members only event. We will have snacks, an open bar, and full access to Wilma's duckpin bowling lanes. The board looks forward to seeing you. \n
SUMMARY:Spring Social - Estate Planning Council of Delaware, Inc. 
PRIORITY:3
BEGIN:VALARM
TRIGGER:PT18H
ACTION:DISPLAY
DESCRIPTION:Reminder
END:VALARM
END:VEVENT
END:VCALENDAR