BEGIN:VCALENDAR
PRODID:-//hacksw/handcal//NONSGML v1.0//EN
VERSION:2.0
METHOD:PUBLISH
BEGIN:VEVENT
DTSTART:20251016T210000Z
DTEND:20251016T233000Z
LOCATION:Wilmington Country Club
UID:2855220251016T210000ZOctober Meeting - One Big Beautiful Bill
DTSTAMP:20260422T182554Z
DESCRIPTION:
SUMMARY:October Meeting - One Big Beautiful Bill - Estate Planning Council of Delaware, Inc. 
PRIORITY:3
BEGIN:VALARM
TRIGGER:PT18H
ACTION:DISPLAY
DESCRIPTION:Reminder
END:VALARM
END:VEVENT
END:VCALENDAR