BEGIN:VCALENDAR
PRODID:-//hacksw/handcal//NONSGML v1.0//EN
VERSION:2.0
METHOD:PUBLISH
BEGIN:VEVENT
DTSTART:20251119T220000Z
DTEND:20251120T003000Z
LOCATION:Wilmington Country Club
UID:2875320251119T220000ZNovember Meeting - Unlocking Hidden Value: Life Settlements for High-Net-Worth Clients and Business Owners
DTSTAMP:20260422T182917Z
DESCRIPTION:\nMEETING NOTICE\n \nRSVP by: Noon – Friday, November 14, 2025\n \n \n \nSponsors:\n \nJTC Group\n \nCitizens Trust Company of Delaware\n \n \n \nTo sponsor an event, please contact Mike Neri, Sponsorship Chair.\n \n \n \nAGENDA:\n Cocktails:       5:00 pm Dinner:           5:45 pm Speaker:        6:30 pm (Scott Etish) Topic:             Unlocking Hidden Value: Life Settlements for High-Net-Worth Clients and Business Owners \n \n \n \n \n \n \nMENU:\n \n \n House salad Pan seared salmon filet in dill vin blanc sauce and chef’s selection of vegetables Assorted cookies VEGETARIAN: General Tso cauliflower
SUMMARY:November Meeting - Unlocking Hidden Value: Life Settlements for High-Net-Worth Clients and Business Owners - Estate Planning Council of Delaware, Inc. 
PRIORITY:3
BEGIN:VALARM
TRIGGER:PT18H
ACTION:DISPLAY
DESCRIPTION:Reminder
END:VALARM
END:VEVENT
END:VCALENDAR