BEGIN:VCALENDAR
PRODID:-//hacksw/handcal//NONSGML v1.0//EN
VERSION:2.0
METHOD:PUBLISH
BEGIN:VEVENT
DTSTART:20251204T220000Z
DTEND:20251205T003000Z
LOCATION:Crow Bar
UID:2881220251204T220000ZHoliday Social
DTSTAMP:20260422T182944Z
DESCRIPTION:
SUMMARY:Holiday Social - Estate Planning Council of Delaware, Inc. 
PRIORITY:3
BEGIN:VALARM
TRIGGER:PT18H
ACTION:DISPLAY
DESCRIPTION:Reminder
END:VALARM
END:VEVENT
END:VCALENDAR