BEGIN:VCALENDAR
PRODID:-//hacksw/handcal//NONSGML v1.0//EN
VERSION:2.0
METHOD:PUBLISH
BEGIN:VEVENT
DTSTART:20260204T220000Z
DTEND:20260205T003000Z
LOCATION:Wilmington Country Club
UID:2903020260204T220000ZFebruary Meeting - 2026: The Economic Outlook and the AI Inflection
DTSTAMP:20260422T182845Z
DESCRIPTION:\nMEETING NOTICE\n \nRSVP by: Noon – Friday, January 30, 2026\n \n \n \nSponsors:\n \nThe Bonadio Group\n \nCitizens Trust Company of Delaware\n \n \n \nTo sponsor an event, please contact Mike Neri, Sponsorship Chair.\n \n \n \nAGENDA:\n Cocktails:       5:00 pm Dinner:           5:45 pm Speaker:        6:30 pm (Kevin Shea) Topic:             2026: The Economic Outlook and the AI Inflection \n \n \n \n \n \n \nMENU:\n \n \n Caesar salad Chicken marsala with mushrooms and chef’s selection of vegetables Assorted cookies VEGETARIAN: Vegetarian lasagna
SUMMARY:February Meeting - 2026: The Economic Outlook and the AI Inflection - Estate Planning Council of Delaware, Inc. 
PRIORITY:3
BEGIN:VALARM
TRIGGER:PT18H
ACTION:DISPLAY
DESCRIPTION:Reminder
END:VALARM
END:VEVENT
END:VCALENDAR