BEGIN:VCALENDAR
PRODID:-//hacksw/handcal//NONSGML v1.0//EN
VERSION:2.0
METHOD:PUBLISH
BEGIN:VEVENT
DTSTART:20260319T210000Z
DTEND:20260319T233000Z
LOCATION:Wilmington Country Club
UID:2921620260319T210000ZMarch Meeting - 2026: Beyond Bloodlines: Planning for the Nonparent Client
DTSTAMP:20260422T183612Z
DESCRIPTION:\nMEETING NOTICE\n \nRSVP by: Noon – Friday, March 13, 2026\n \n \n \nSponsors:\n \nAB Bernstein\n \nAKA Advisory, LLC\n \nTalon Fiduciary Solutions\n \n \n \nTo sponsor an event, please contact Mike Neri, Sponsorship Chair.\n \n \n \nAGENDA:\n Cocktails:       5:00 pm Dinner:           5:45 pm Speaker:        6:30 pm (Jennifer Goode) Topic:             Beyond Bloodlines: Planning for the Nonparent Client \n \n \n \n \n \n \nMENU:\n \n \n Mixed greens with poppyseed vinaigrette Filet mignon with béarnaise sauce and chef’s selection of vegetables Assorted cookies VEGETARIAN: Seasonal vegetarian pasta
SUMMARY:March Meeting - 2026: Beyond Bloodlines: Planning for the Nonparent Client - Estate Planning Council of Delaware, Inc. 
PRIORITY:3
BEGIN:VALARM
TRIGGER:PT18H
ACTION:DISPLAY
DESCRIPTION:Reminder
END:VALARM
END:VEVENT
END:VCALENDAR