BEGIN:VCALENDAR
PRODID:-//hacksw/handcal//NONSGML v1.0//EN
VERSION:2.0
METHOD:PUBLISH
BEGIN:VEVENT
DTSTART:20260519T210000Z
DTEND:20260519T233000Z
LOCATION:Wilmington Country Club
UID:2947820260519T210000ZAnnual Meeting - International Planning
DTSTAMP:20260422T234147Z
DESCRIPTION:\nMEETING NOTICE\n\nRSVP by: Noon â Friday, May 15, 2026\n\n \n\nSponsors:\n\nBelfint Lyons Shuman\n\nBNY Wealth\n\nMorris Nichols Arsht & Tunnell\n\n \n\nTo sponsor an event, please contact Jeff Kaczmarczyk, Sponsorship Chair.\n\n \n\nAGENDA:\nCocktails:       5:00 pmDinner:           5:45 pmSpeaker:        6:30 pm (Myriam Soto)Topic:             International Planning\n \n\n \n\n \n\nMENU:\n\n \nCaesar saladPetite filet mignon & crab cakeAssorted cookiesVEGETARIAN: Seasonal vegetarian risotto
SUMMARY:Annual Meeting - International Planning - Estate Planning Council of Delaware, Inc. 
PRIORITY:3
BEGIN:VALARM
TRIGGER:PT18H
ACTION:DISPLAY
DESCRIPTION:Reminder
END:VALARM
END:VEVENT
END:VCALENDAR