BEGIN:VCALENDAR
PRODID:-//hacksw/handcal//NONSGML v1.0//EN
VERSION:2.0
METHOD:PUBLISH
BEGIN:VEVENT
DTSTART:20131113T221500Z
DTEND:20131114T010000Z
LOCATION:Hotel DuPont - DuBarry Room
UID:789420131113T221500ZEstate Planning for the International Family:  Opportunities for Delaware
DTSTAMP:20260422T183557Z
DESCRIPTION:\nREGISTRATION HAS NOW CLOSED FOR THIS EVENT.\n \n \n \n*** Payment due by November 12, 2013 ***\n \nGUESTS:  Check or Cash only.  WE DO NOT ACCEPT CREDIT CARDS.\n \n \n \nEvent sponsor(s):\n \nCooch and Taylor, P.A.\n \nNemours duPont Hospital for Children\n \nNew York Private Trust\n \n \n \nCocktails 5:15 pm - 6:15 pm\n \nDinner/Presentation 6:15 pm\n \n \n \nMenu\n \nPetite mixed greens with white balsamic vinaigrette, mandarin oranges & toasted almonds; rolls & butter\n \nSeared filet of salmon, balsamic chive sauce on a bed of red & yellow roasted tomatoes, seasonal fresh vegetables\n \nVegetarian:  Seasonal fresh vegetables, smoked tomator sauce, Quinoa with dried fruit\n \nDessert:  Lemon cream charlotte with fresh raspberries & coulis\n \n \n
SUMMARY:Estate Planning for the International Family:  Opportunities for Delaware - Estate Planning Council of Delaware, Inc. 
PRIORITY:3
BEGIN:VALARM
TRIGGER:PT18H
ACTION:DISPLAY
DESCRIPTION:Reminder
END:VALARM
END:VEVENT
END:VCALENDAR