BEGIN:VCALENDAR
PRODID:-//hacksw/handcal//NONSGML v1.0//EN
VERSION:2.0
METHOD:PUBLISH
BEGIN:VEVENT
DTSTART:20140304T221500Z
DTEND:20140305T010000Z
LOCATION:Hotel DuPont - DuBarry Room
UID:789620140304T221500ZPortability vs. Credit Shelter Trust:  Planning for those under $10,000,000
DTSTAMP:20260422T183146Z
DESCRIPTION:\nONLINE REGISTRATION IS NOW CLOSED.  PLEASE CONTACT US VIA EMAIL.\n \n \n \n*** Payment due by March 3, 2013 ***\n \nGUESTS:  Check or Cash only.  WE DO NOT ACCEPT CREDIT CARDS.\n \n \n \nEvent sponsor(s):\n \nMorris, Nichols, Arsht & Tunnell\n \nBNY Mellon Wealth Management\n \nCover & Rossiter P.A.\n \n \n \nCocktails 5:15 pm - 6:15 pm\n \nDinner/Presentation 6:15 pm\n \n \n \nMenu\n \nSpring mix of greens with sherry vinaigrette, pancetta, figs, dates & bleu cheese; rolls & butter\n \nChicken breast with roasted mascarpone potato puree, sherry jus, corn & mushroom fricassee, fresh vegetables\n \nVegetarian:  Vegetable strudel in phyllo, roasted red pepper sauce\n \nDessert:  Tahitian vanilla bean creme brulee\n \n \n \n \n
SUMMARY:Portability vs. Credit Shelter Trust:  Planning for those under $10,000,000 - Estate Planning Council of Delaware, Inc. 
PRIORITY:3
BEGIN:VALARM
TRIGGER:PT18H
ACTION:DISPLAY
DESCRIPTION:Reminder
END:VALARM
END:VEVENT
END:VCALENDAR