BEGIN:VCALENDAR
PRODID:-//hacksw/handcal//NONSGML v1.0//EN
VERSION:2.0
METHOD:PUBLISH
BEGIN:VEVENT
DTSTART:20140520T210000Z
DTEND:20140521T000000Z
LOCATION:DuPont Country Club
UID:789720140520T210000ZTwenty Years of Sales to IDIT's - Where are we now?
DTSTAMP:20260422T182645Z
DESCRIPTION:\nONLINE REGISTRATION IS NOW CLOSED\n \n \n \nSPONSORS:\n \nDinner:   Gordon, Fournaris & Mammarella\n \nDinner:   Citi Private Bank\n \nSocial Hour:   Santora CPA Group\n \nSocial Hour:  Brown & Brown Private Client Group\n \n \n \nMENU - Please choose ONE entree when replying:\n \n1.  Crab cakes with braised leeks, champagne and caviar cream\n \n2.  Filet Mignon topped with fresh horseradish crust and port demi glace\n \n3.  Vegetarian entree (Chef's choice)\n \n \n \n \n
SUMMARY:Twenty Years of Sales to IDIT's - Where are we now? - Estate Planning Council of Delaware, Inc. 
PRIORITY:3
BEGIN:VALARM
TRIGGER:PT18H
ACTION:DISPLAY
DESCRIPTION:Reminder
END:VALARM
END:VEVENT
END:VCALENDAR