BEGIN:VCALENDAR
PRODID:-//hacksw/handcal//NONSGML v1.0//EN
VERSION:2.0
METHOD:PUBLISH
BEGIN:VEVENT
DTSTART:20131008T211500Z
DTEND:20131009T000000Z
LOCATION:Hotel DuPont - DuBarry Room
UID:803820131008T211500ZThe 25 Biggest Mistakes Made with Life Insurance
DTSTAMP:20260422T182715Z
DESCRIPTION:\nREGISTRATION FOR THIS EVENT IS NOW CLOSED.\n \n*** Payment due by October 7, 2013 *** \n \nCheck or Cash only. WE DO NOT ACCEPT CREDIT CARDS.\n \nEvent sponsor(s):\n \nBelfint, Lyons & Shuman, P.A.\n \nMorris James LLP\n \nNewton One Advisors\n \nWilmington Trust Company\n \n \n \nCocktails 5:15 pm - 6:15 pm Dinner/Presentation 6:15 pm\n \nSpeaker:  Lawrence Brody, Partner (see his bio below)\n \n \n \nMenu \n \nClassic Caesar Salad w/croutons & grated parmesan cheese; bread basket\n \nBraised short rib & peppered sirloin medallions, petite vegetables, bourbon sauce\n \nVegetarian:  Zucchini bundles stuffed with petite vegetables & parmesan cheese\n \nDessert:  Apple crisp tart with vanilla ice cream & caramel sauce\n \n \n
SUMMARY:The 25 Biggest Mistakes Made with Life Insurance - Estate Planning Council of Delaware, Inc. 
PRIORITY:3
BEGIN:VALARM
TRIGGER:PT18H
ACTION:DISPLAY
DESCRIPTION:Reminder
END:VALARM
END:VEVENT
END:VCALENDAR